BEGIN:VCALENDAR
VERSION:2.0
PRODID:-//ISHNR - ECPv6.15.20//NONSGML v1.0//EN
CALSCALE:GREGORIAN
METHOD:PUBLISH
X-WR-CALNAME:ISHNR
X-ORIGINAL-URL:https://ishnr.com
X-WR-CALDESC:Events for ISHNR
REFRESH-INTERVAL;VALUE=DURATION:PT1H
X-Robots-Tag:noindex
X-PUBLISHED-TTL:PT1H
BEGIN:VTIMEZONE
TZID:Asia/Kolkata
BEGIN:STANDARD
TZOFFSETFROM:+0530
TZOFFSETTO:+0530
TZNAME:IST
DTSTART:20240101T000000
END:STANDARD
END:VTIMEZONE
BEGIN:VEVENT
DTSTART;TZID=Asia/Kolkata:20250328T080000
DTEND;TZID=Asia/Kolkata:20250328T170000
DTSTAMP:20260422T073129
CREATED:20250325T142103Z
LAST-MODIFIED:20250325T142939Z
UID:6718-1743148800-1743181200@ishnr.com
SUMMARY:Webinar of ASHNR - ISHNR
DESCRIPTION:Dear All\, \nWe are delighted to announce the next webinar series of ASHNR and ISHNR\, scheduled for *28th March 2025\, from **8:00 PM to 10:00 PM*. Please find the registration link below \nhttps://gehealthcare.zoom.us/webinar/register/WN_ha4PQ-W9QgWWob1mUElajg \nPlease note that registration is *free but mandatory*. \nWe look forward to your enthusiastic participation in making this event a resounding success! \nWarm regards\, \nDr. N. Chidambaranathan\,  President \nDr. Diva Shah\,  Secretary \n 
URL:https://ishnr.com/event/webinar-of-ashnr-ishnr/
LOCATION:Virtual\, India
CATEGORIES:Webinar
ATTACH;FMTTYPE=image/jpeg:https://ishnr.com/wp-content/uploads/2025/03/WhatsApp-Image-2025-03-17-at-08.34.39.jpeg
END:VEVENT
END:VCALENDAR