BEGIN:VCALENDAR
VERSION:2.0
PRODID:-//ISHNR - ECPv6.15.20//NONSGML v1.0//EN
CALSCALE:GREGORIAN
METHOD:PUBLISH
X-ORIGINAL-URL:https://ishnr.com
X-WR-CALDESC:Events for ISHNR
REFRESH-INTERVAL;VALUE=DURATION:PT1H
X-Robots-Tag:noindex
X-PUBLISHED-TTL:PT1H
BEGIN:VTIMEZONE
TZID:UTC
BEGIN:STANDARD
TZOFFSETFROM:+0000
TZOFFSETTO:+0000
TZNAME:UTC
DTSTART:20240101T000000
END:STANDARD
END:VTIMEZONE
BEGIN:VEVENT
DTSTART;TZID=UTC:20251010T080000
DTEND;TZID=UTC:20251012T170000
DTSTAMP:20260421T222417
CREATED:20250719T174625Z
LAST-MODIFIED:20250929T172958Z
UID:7108-1760083200-1760288400@ishnr.com
SUMMARY:6th Annual Conference
DESCRIPTION:Download Brochure Link: Brochure
URL:https://ishnr.com/event/6th-annual-conference/
LOCATION:New Delhi
ATTACH;FMTTYPE=image/jpeg:https://ishnr.com/wp-content/uploads/2025/07/WhatsApp-Image-2025-07-17-at-22.41.49.jpeg
END:VEVENT
END:VCALENDAR