BEGIN:VCALENDAR
VERSION:2.0
PRODID:-//ISHNR - ECPv6.15.20//NONSGML v1.0//EN
CALSCALE:GREGORIAN
METHOD:PUBLISH
X-WR-CALNAME:ISHNR
X-ORIGINAL-URL:https://ishnr.com
X-WR-CALDESC:Events for ISHNR
REFRESH-INTERVAL;VALUE=DURATION:PT1H
X-Robots-Tag:noindex
X-PUBLISHED-TTL:PT1H
BEGIN:VTIMEZONE
TZID:UTC
BEGIN:STANDARD
TZOFFSETFROM:+0000
TZOFFSETTO:+0000
TZNAME:UTC
DTSTART:20250101T000000
END:STANDARD
END:VTIMEZONE
BEGIN:VEVENT
DTSTART;TZID=UTC:20260522T080000
DTEND;TZID=UTC:20260523T170000
DTSTAMP:20260421T140259
CREATED:20260319T060107Z
LAST-MODIFIED:20260321T051718Z
UID:7684-1779436800-1779555600@ishnr.com
SUMMARY:APSHNR 2026
DESCRIPTION:
URL:https://ishnr.com/event/apshnr-2026/
LOCATION:New Delhi
ATTACH;FMTTYPE=image/jpeg:https://ishnr.com/wp-content/uploads/2026/03/APSHNR-2026-bali_.jpg
END:VEVENT
END:VCALENDAR