BEGIN:VCALENDAR
VERSION:2.0
PRODID:-//ISHNR - ECPv6.15.20//NONSGML v1.0//EN
CALSCALE:GREGORIAN
METHOD:PUBLISH
X-WR-CALNAME:ISHNR
X-ORIGINAL-URL:https://ishnr.com
X-WR-CALDESC:Events for ISHNR
REFRESH-INTERVAL;VALUE=DURATION:PT1H
X-Robots-Tag:noindex
X-PUBLISHED-TTL:PT1H
BEGIN:VTIMEZONE
TZID:Asia/Kolkata
BEGIN:STANDARD
TZOFFSETFROM:+0530
TZOFFSETTO:+0530
TZNAME:IST
DTSTART:20240101T000000
END:STANDARD
END:VTIMEZONE
BEGIN:VTIMEZONE
TZID:UTC
BEGIN:STANDARD
TZOFFSETFROM:+0000
TZOFFSETTO:+0000
TZNAME:UTC
DTSTART:20220101T000000
END:STANDARD
END:VTIMEZONE
BEGIN:VEVENT
DTSTART;VALUE=DATE:20250419
DTEND;VALUE=DATE:20250421
DTSTAMP:20260422T223001
CREATED:20250325T142520Z
LAST-MODIFIED:20250409T160806Z
UID:6723-1745020800-1745193599@ishnr.com
SUMMARY:Midterm CME
DESCRIPTION:Download Brochure – MIDTERM – ISHNR – 2025
URL:https://ishnr.com/event/midterm-cme/
LOCATION:Shree Krishna Hospital\, Bhaikaka University\, Karamsad\, Anand\, Gujarat\, Shree Krishna Hospital\, Bhaikaka University\, Karamsad\, Anand\, Gujarat\, Gujrat\, India
ATTACH;FMTTYPE=application/pdf:https://ishnr.com/wp-content/uploads/2025/03/Brochure-ISHNR-2025-v11.pdf
END:VEVENT
BEGIN:VEVENT
DTSTART;TZID=Asia/Kolkata:20250328T080000
DTEND;TZID=Asia/Kolkata:20250328T170000
DTSTAMP:20260422T223001
CREATED:20250325T142103Z
LAST-MODIFIED:20250325T142939Z
UID:6718-1743148800-1743181200@ishnr.com
SUMMARY:Webinar of ASHNR - ISHNR
DESCRIPTION:Dear All\, \nWe are delighted to announce the next webinar series of ASHNR and ISHNR\, scheduled for *28th March 2025\, from **8:00 PM to 10:00 PM*. Please find the registration link below \nhttps://gehealthcare.zoom.us/webinar/register/WN_ha4PQ-W9QgWWob1mUElajg \nPlease note that registration is *free but mandatory*. \nWe look forward to your enthusiastic participation in making this event a resounding success! \nWarm regards\, \nDr. N. Chidambaranathan\,  President \nDr. Diva Shah\,  Secretary \n 
URL:https://ishnr.com/event/webinar-of-ashnr-ishnr/
LOCATION:Virtual\, India
CATEGORIES:Webinar
ATTACH;FMTTYPE=image/jpeg:https://ishnr.com/wp-content/uploads/2025/03/WhatsApp-Image-2025-03-17-at-08.34.39.jpeg
END:VEVENT
BEGIN:VEVENT
DTSTART;TZID=UTC:20230423T100000
DTEND;TZID=UTC:20230423T110000
DTSTAMP:20260422T223001
CREATED:20230419T080208Z
LAST-MODIFIED:20230419T080923Z
UID:4824-1682244000-1682247600@ishnr.com
SUMMARY:23rd April
DESCRIPTION:
URL:https://ishnr.com/event/23rd-april/
LOCATION:Virtual\, India
ATTACH;FMTTYPE=image/png:https://ishnr.com/wp-content/uploads/2023/04/ISHNR_Webinar_24_April_2023-11.png
END:VEVENT
BEGIN:VEVENT
DTSTART;TZID=UTC:20230305T080000
DTEND;TZID=UTC:20230305T170000
DTSTAMP:20260422T223002
CREATED:20230228T141538Z
LAST-MODIFIED:20230228T141538Z
UID:4621-1678003200-1678035600@ishnr.com
SUMMARY:Clinico-Radiological Webinar:  Imaging a Patient with Hearing Loss
DESCRIPTION:
URL:https://ishnr.com/event/clinico-radiological-webinar-imaging-a-patient-with-hearing-loss/
LOCATION:Virtual\, India
END:VEVENT
BEGIN:VEVENT
DTSTART;TZID=UTC:20230212T080000
DTEND;TZID=UTC:20230212T140000
DTSTAMP:20260422T223002
CREATED:20230208T071228Z
LAST-MODIFIED:20230210T125725Z
UID:3544-1676188800-1676210400@ishnr.com
SUMMARY:Synergy Series
DESCRIPTION:
URL:https://ishnr.com/event/synergy-series/
LOCATION:Virtual\, India
END:VEVENT
END:VCALENDAR