BEGIN:VCALENDAR
VERSION:2.0
PRODID:-//ISHNR - ECPv6.15.20//NONSGML v1.0//EN
CALSCALE:GREGORIAN
METHOD:PUBLISH
X-WR-CALNAME:ISHNR
X-ORIGINAL-URL:https://ishnr.com
X-WR-CALDESC:Events for ISHNR
REFRESH-INTERVAL;VALUE=DURATION:PT1H
X-Robots-Tag:noindex
X-PUBLISHED-TTL:PT1H
BEGIN:VTIMEZONE
TZID:UTC
BEGIN:STANDARD
TZOFFSETFROM:+0000
TZOFFSETTO:+0000
TZNAME:UTC
DTSTART:20250101T000000
END:STANDARD
END:VTIMEZONE
BEGIN:VEVENT
DTSTART;TZID=UTC:20260426T080000
DTEND;TZID=UTC:20260426T170000
DTSTAMP:20260421T192710
CREATED:20260417T072346Z
LAST-MODIFIED:20260417T072346Z
UID:7700-1777190400-1777222800@ishnr.com
SUMMARY:📢 Mid-Term CME – ISHNR 2026
DESCRIPTION:The Indian Society of Head and Neck Radiology (ISHNR) invites you to an enriching academic experience! \nView Brochure: ISHNR Midterm CME 2026 Brochure \n🗓 Date: April 26\, 2026\n📍 Venue: Department of Radiodiagnosis\, HIMSR\, New Delhi\n🎯 Theme: Mastering Neck Imaging\n🎓 DMC Credit Hours Applied \n✨ Program Highlights:\n🔹 Insightful lectures by renowned experts in Head & Neck Imaging\n🔹 Practical\, clinically oriented approach to neck pathologies\n🔹 Hands-on USG Neck Workshop\n🔹 Interactive CT/MRI DICOM Case-Based Workshop\n🔹 Engaging Quiz Session on Neck Imaging\n🔹 Paper & E-Poster Presentations \n📚 Whether you’re a resident\, fellow\, or consultant\, this CME is designed to elevate your diagnostic confidence and expertise in neck imaging. \n🚨 Limited Seats Available!\n👉 Register now and confirm your seat: https://docs.google.com/forms/d/e/1FAIpQLSesfus_p1OWJGwtlf1QafpmN-L50a9fYc3DfGgt1VL5AbpTgA/viewform \n#ISHNR #HeadAndNeckRadiology #NeckImaging #RadiologyCME #RadiologyWorkshop #USG #CTMRI
URL:https://ishnr.com/event/%f0%9f%93%a2-mid-term-cme-ishnr-2026/
LOCATION:Department of Radiodiagnosis\, HIMS\, New Delhi\, Hamdard Institute of Medical Sciences and Research\, New Delhi\, New Delhi\, 110062\, India
END:VEVENT
BEGIN:VEVENT
DTSTART;TZID=UTC:20260522T080000
DTEND;TZID=UTC:20260523T170000
DTSTAMP:20260421T192710
CREATED:20260319T060107Z
LAST-MODIFIED:20260321T051718Z
UID:7684-1779436800-1779555600@ishnr.com
SUMMARY:APSHNR 2026
DESCRIPTION:
URL:https://ishnr.com/event/apshnr-2026/
LOCATION:New Delhi
ATTACH;FMTTYPE=image/jpeg:https://ishnr.com/wp-content/uploads/2026/03/APSHNR-2026-bali_.jpg
END:VEVENT
BEGIN:VEVENT
DTSTART;TZID=UTC:20260716T080000
DTEND;TZID=UTC:20260718T170000
DTSTAMP:20260421T192710
CREATED:20260319T055920Z
LAST-MODIFIED:20260321T055644Z
UID:7678-1784188800-1784394000@ishnr.com
SUMMARY:7th Annual Conference ISHNR
DESCRIPTION:Download Brochure: \nhttps://ishnr.com/wp-content/uploads/2026/03/ISHNR-JULY-2026-BROCHURE-Scientific-Schedule.pdf \nRegistration: \nhttps://docs.google.com/forms/u/0/d/1EdnGS8p7F_J_vBLenlDR92y3t4gDLc2WKwNk0FmkIYo/viewform?edit_requested=true \nSubmit Abstract: \nhttps://docs.google.com/forms/d/e/1FAIpQLSdTqYGEq45uqaFADvDNErQwpCzcJRGzAitDEs1rZExUZ6yFHQ/viewform \nScientific Schedule: \nhttps://ishnr.com/wp-content/uploads/2026/03/ISHNR-HIGHLIGHTS-SCIENTIFIC-SCHEDULE.pdf.pdf \nBoot Camp: \nhttps://ishnr.com/wp-content/uploads/2026/03/ISHNR-BOOTCAMP-FLYER.pdf.pdf \n 
URL:https://ishnr.com/event/7th-annual-conference-ishnr/
LOCATION:Christian Medical College Vellore\, 632004\, India
ATTACH;FMTTYPE=image/png:https://ishnr.com/wp-content/uploads/2026/03/ISHNR-7th-Annual-Conference.png
END:VEVENT
END:VCALENDAR